BEGIN:VCALENDAR
VERSION:2.0
PRODID:-//Ascension Toronto - ECPv6.15.20//NONSGML v1.0//EN
CALSCALE:GREGORIAN
METHOD:PUBLISH
X-ORIGINAL-URL:https://ascensiontoronto.ca
X-WR-CALDESC:Events for Ascension Toronto
REFRESH-INTERVAL;VALUE=DURATION:PT1H
X-Robots-Tag:noindex
X-PUBLISHED-TTL:PT1H
BEGIN:VTIMEZONE
TZID:UTC
BEGIN:STANDARD
TZOFFSETFROM:+0000
TZOFFSETTO:+0000
TZNAME:UTC
DTSTART:20250101T000000
END:STANDARD
END:VTIMEZONE
BEGIN:VEVENT
DTSTART;TZID=UTC:20260418T100000
DTEND;TZID=UTC:20260418T120000
DTSTAMP:20260423T170256
CREATED:20260110T004929Z
LAST-MODIFIED:20260413T013517Z
UID:6231-1776506400-1776513600@ascensiontoronto.ca
SUMMARY:How Are We Casting Our Net?
DESCRIPTION:[vc_row][vc_column][vc_column_text css=””]HOW ARE WE CASTING OUR NET? All are encouraged to participate in our planning for the Word Day of Prayer Service\, our Concert on May 9th and the coming months of summer. Sat. April 18th – 10 am – 12.[/vc_column_text][/vc_column][/vc_row]
URL:https://ascensiontoronto.ca/event/a-time-to-listen-how-are-we-casting-our-net/
CATEGORIES:Training
ATTACH;FMTTYPE=image/jpeg:https://ascensiontoronto.ca/wp-content/uploads/2018/07/660x420_img8.jpg
END:VEVENT
END:VCALENDAR