BEGIN:VCALENDAR
VERSION:2.0
PRODID:-//Ascension Toronto - ECPv6.15.20//NONSGML v1.0//EN
CALSCALE:GREGORIAN
METHOD:PUBLISH
X-ORIGINAL-URL:https://ascensiontoronto.ca
X-WR-CALDESC:Events for Ascension Toronto
REFRESH-INTERVAL;VALUE=DURATION:PT1H
X-Robots-Tag:noindex
X-PUBLISHED-TTL:PT1H
BEGIN:VTIMEZONE
TZID:UTC
BEGIN:STANDARD
TZOFFSETFROM:+0000
TZOFFSETTO:+0000
TZNAME:UTC
DTSTART:20250101T000000
END:STANDARD
END:VTIMEZONE
BEGIN:VEVENT
DTSTART;TZID=UTC:20260107T103000
DTEND;TZID=UTC:20301225T103000
DTSTAMP:20260423T184126
CREATED:20180726T111647Z
LAST-MODIFIED:20260104T005436Z
UID:639-1767781800-1924425000@ascensiontoronto.ca
SUMMARY:WOMEN SUPPORTING WOMEN 
DESCRIPTION:WOMEN SUPPORTING WOMEN Meets on the 2nd and 4th Wednesday of each month. Contact the Office for more information.
URL:https://ascensiontoronto.ca/event/women-supporting-women/
LOCATION:Don Mills
CATEGORIES:Sunday,Training
ATTACH;FMTTYPE=image/jpeg:https://ascensiontoronto.ca/wp-content/uploads/2018/11/call_out_bg_2.jpg
ORGANIZER;CN="Company Name":MAILTO:info@companyname.com
END:VEVENT
BEGIN:VEVENT
DTSTART;TZID=UTC:20260418T100000
DTEND;TZID=UTC:20260418T120000
DTSTAMP:20260423T184126
CREATED:20260110T004929Z
LAST-MODIFIED:20260413T013517Z
UID:6231-1776506400-1776513600@ascensiontoronto.ca
SUMMARY:How Are We Casting Our Net?
DESCRIPTION:[vc_row][vc_column][vc_column_text css=””]HOW ARE WE CASTING OUR NET? All are encouraged to participate in our planning for the Word Day of Prayer Service\, our Concert on May 9th and the coming months of summer. Sat. April 18th – 10 am – 12.[/vc_column_text][/vc_column][/vc_row]
URL:https://ascensiontoronto.ca/event/a-time-to-listen-how-are-we-casting-our-net/
CATEGORIES:Training
ATTACH;FMTTYPE=image/jpeg:https://ascensiontoronto.ca/wp-content/uploads/2018/07/660x420_img8.jpg
END:VEVENT
BEGIN:VEVENT
DTSTART;TZID=UTC:20260422T100000
DTEND;TZID=UTC:20260422T230000
DTSTAMP:20260423T184126
CREATED:20260302T014350Z
LAST-MODIFIED:20260413T015125Z
UID:6348-1776852000-1776898800@ascensiontoronto.ca
SUMMARY:COFFEE WITH REV. NICK
DESCRIPTION:[vc_row][vc_column][vc_column_text css=””]COFFEE WITH REV. NICK\n“Bring What’s on Your Heart”  Wednesday\, March 18\, 10:00 am[/vc_column_text][/vc_column][/vc_row]
URL:https://ascensiontoronto.ca/event/coffee-with-rev-nick/
ATTACH;FMTTYPE=image/webp:https://ascensiontoronto.ca/wp-content/uploads/2026/01/Coffee-cup2.webp
END:VEVENT
BEGIN:VEVENT
DTSTART;TZID=UTC:20260503T103000
DTEND;TZID=UTC:20260503T120000
DTSTAMP:20260423T184126
CREATED:20260413T011159Z
LAST-MODIFIED:20260413T013633Z
UID:6394-1777804200-1777809600@ascensiontoronto.ca
SUMMARY:RESPONSIBLE MINISTRY: SCREENING IN FAITH
DESCRIPTION:[vc_row][vc_column][vc_column_text css=””]RESPONSIBLE MINISTRY: SCREENING IN FAITH\nSunday\, May 3rd \, following the 10:30 am service.\nAll are invited to attend this workshop to help ensure that the Ascension is a safe and healthy place\, especially for those most vulnerable.[/vc_column_text][/vc_column][/vc_row]
URL:https://ascensiontoronto.ca/event/responsible-ministry-screening-in-faith/
CATEGORIES:Training
ATTACH;FMTTYPE=image/jpeg:https://ascensiontoronto.ca/wp-content/uploads/sermons/2018/10/pexels-photo-278779.jpeg.jpg
END:VEVENT
BEGIN:VEVENT
DTSTART;TZID=UTC:20260519T183000
DTEND;TZID=UTC:20260519T193000
DTSTAMP:20260423T184126
CREATED:20260110T011249Z
LAST-MODIFIED:20260413T014949Z
UID:6237-1779215400-1779219000@ascensiontoronto.ca
SUMMARY:Advisory Board Meeting
DESCRIPTION:[vc_row][vc_column][vc_column_text css=””]ADVISORY BOARD MEETING\nTuesday\, May19 th 6:30 pm Zoomed.•[/vc_column_text][/vc_column][/vc_row]
URL:https://ascensiontoronto.ca/event/advisory-board-meeting/
ATTACH;FMTTYPE=image/jpeg:https://ascensiontoronto.ca/wp-content/uploads/2018/07/960x588_bg.jpg
END:VEVENT
END:VCALENDAR